BEGIN:VCALENDAR
VERSION:2.0
PRODID:-//Official website of Idaho Peace Officer Standards and Training - ECPv5.9.1//NONSGML v1.0//EN
CALSCALE:GREGORIAN
METHOD:PUBLISH
X-WR-CALNAME:Official website of Idaho Peace Officer Standards and Training
X-ORIGINAL-URL:https://post.idaho.gov
X-WR-CALDESC:Events for Official website of Idaho Peace Officer Standards and Training
BEGIN:VTIMEZONE
TZID:UTC
BEGIN:STANDARD
TZOFFSETFROM:+0000
TZOFFSETTO:+0000
TZNAME:UTC
DTSTART:20210101T000000
END:STANDARD
END:VTIMEZONE
BEGIN:VEVENT
DTSTART;TZID=UTC:20210929T080000
DTEND;TZID=UTC:20210929T170000
DTSTAMP:20211012T223637
CREATED:20210707T152623Z
LAST-MODIFIED:20210913T155840Z
UID:5071-1632902400-1632934800@post.idaho.gov
SUMMARY:R4 The Unbreakable Cop- Idaho Falls CANCELLED- TENTATIVE RESCHEDULE FOR 2022
DESCRIPTION:Course Number: R4236\n \nCourse Description: \nHaving a problem isn’t the worst thing. The worst thing is having a problem and no plan to fix it… \nThere’s nothing easy about being a cop. The extremely high levels of negativity and the unrelenting pressure to perform perfectly make the job incredibly difficult. In normal times\, it’s bad enough. Unfortunately\, these are not normal times and as hard as it is to believe\, it’s only gotten worse. \nSadly\, it’s also clear that many politicians and other elected leaders are not going to go out of their way to protect you and your family. You’re going to have to do that yourself. You’re going to have to become unbreakable… \nAttend this course and we’ll show you how to… \n\nMake yourself unbreakable by learning\, growing\, and becoming stronger in the 7 Inner Strengths\n\nQuickly determine which of the 4 Categories of Life you’re presently in and techniques to transition from a lower to a higher category\n\nSelf-determine the scope\, direction\, and length of your career by deciding your own self-worth instead of letting someone else do it\n\nImplement routines and practices that keep you focused\, on track\, and moving forward each day…especially in difficult times\n\nUtilize self-assessment tools to track\, correct\, and enhance your personal growth\, happiness\, and success\n\nEnhance officer safety by practicing\, perfecting\, and maintaining a mindset of clarity and gratitude\n\nPrevent negative and harmful thinking by scripting future reactions to specific behaviors\n\nOvercome pain\, fear\, trauma\, and resentment with passion\, purpose\, and action\n\nUnderstand authentic love and the 3 simple steps to enrich any relationship\n\nAnd so much more\n\nDates: September 29-30\, 2021\n \nTimes: 0800-1530\n \nCredit Hours: 15\n \nLocation: Bonneville County Sheriff’s Office Training Annex\, 577 D St.\, Idaho Falls\, ID 83402\n \nCost: $495.00\n \n(Attendees are responsible for meals\, travel\, and/or lodging) \nDeadline: \nInstructor(s): Don Shomette\n \nRemarks: Police departments that register 3 or more receive same number in free seats! Send 3\, 4\, 5\, or more and get the same number in free seats!\n \nTo REGISTER online www.donshomette.com or call 540-577-7200
URL:https://post.idaho.gov/event/r4236-unbreakable-bonneville-sept20211/
LOCATION:Bonneville County Sheriff’s Office Annex\, 577 D St.\, Idaho Falls\, ID\, 83402\, United States
CATEGORIES:Region 4
END:VEVENT
END:VCALENDAR