BEGIN:VCALENDAR
VERSION:2.0
PRODID:-//Official website of Idaho Peace Officer Standards and Training - ECPv5.6.0//NONSGML v1.0//EN
CALSCALE:GREGORIAN
METHOD:PUBLISH
X-WR-CALNAME:Official website of Idaho Peace Officer Standards and Training
X-ORIGINAL-URL:https://post.idaho.gov
X-WR-CALDESC:Events for Official website of Idaho Peace Officer Standards and Training
BEGIN:VTIMEZONE
TZID:America/Los_Angeles
BEGIN:DAYLIGHT
TZOFFSETFROM:-0800
TZOFFSETTO:-0700
TZNAME:PDT
DTSTART:20210314T100000
END:DAYLIGHT
BEGIN:STANDARD
TZOFFSETFROM:-0700
TZOFFSETTO:-0800
TZNAME:PST
DTSTART:20211107T090000
END:STANDARD
END:VTIMEZONE
BEGIN:VEVENT
DTSTART;VALUE=DATE:20210428
DTEND;VALUE=DATE:20210429
DTSTAMP:20210518T014029
CREATED:20191121T014519Z
LAST-MODIFIED:20210222T164900Z
UID:2482-1619568000-1619654399@post.idaho.gov
SUMMARY:R1 Truth2Lies Statement Profiling:  Detecting Deception - Hayden
DESCRIPTION:Course Number: R1  227 \n  \nDescription: This course will give you the tools to get to the Truth quicker.  You will be able to laser focus your investigations\, and come to a quicker case resolve.  You will recognize information in the words people use\, that you have previously been missing!  This course is also the foundation for successful Analytical Interview.  \n  \nDates: April 28-30\, 2021 \nTime: 0800-1700 \nCredit Hours: 21 \nLocation: \nKCSO SAR Bldg \n10865 N. Ramsey Rd \nHayden\, ID \nCost: $350 \n(Attendees are responsible for meals\, travel\, and/or lodging)  \nDeadline: April 20\, 2021 \nInstructors:  \nSteven Johnson \n  \nRegistration Details:  \nwww.Truth2Lies.com/classes or (480) 229-2297 or Steve@Truth2Lies.com \nRemarks:
URL:https://post.idaho.gov/event/r1-truth2lies-statement-profiling-detecting-deception-hayden/
LOCATION:Search and Rescue  Building – Kootenai County Sheriff’s Office\, 10865 N. Ramsey Rd.\, Hayden\, ID\, 83835\, United States
CATEGORIES:Region 1
ORGANIZER;CN="Kootenai%20County%20Sheriff%27s%20Office":MAILTO:sdtraining@kcgov.us
END:VEVENT
END:VCALENDAR