BEGIN:VCALENDAR
VERSION:2.0
PRODID:-//Official website of Idaho Peace Officer Standards and Training - ECPv5.8.0//NONSGML v1.0//EN
CALSCALE:GREGORIAN
METHOD:PUBLISH
X-WR-CALNAME:Official website of Idaho Peace Officer Standards and Training
X-ORIGINAL-URL:https://post.idaho.gov
X-WR-CALDESC:Events for Official website of Idaho Peace Officer Standards and Training
BEGIN:VTIMEZONE
TZID:UTC
BEGIN:STANDARD
TZOFFSETFROM:+0000
TZOFFSETTO:+0000
TZNAME:UTC
DTSTART:20210101T000000
END:STANDARD
END:VTIMEZONE
BEGIN:VEVENT
DTSTART;TZID=UTC:20210218T080000
DTEND;TZID=UTC:20210218T170000
DTSTAMP:20210726T094915
CREATED:20201116T185440Z
LAST-MODIFIED:20201116T185450Z
UID:4120-1613635200-1613667600@post.idaho.gov
SUMMARY:R1 Avoiding Burnout From Fatigue to Fulfillment - Hayden
DESCRIPTION:Course Number: R1  144C \n  \nDescription:  \nI. COURSE INTRODUCTION A career in law enforcement can have potentially negative impacts on staff\, their family members\, and the workforce culture. Additionally\, working amid constant high-stress conditions can have adverse effects on the physical and mental health of individuals. This course provides an understanding of the nature of Law Enforcement Fatigue\, its facets\, and precursors\, and presents strategies for boosting well-being and professional growth. II. PROGRAM STRUCTURE Students will be provided with the materials\, theories\, educational foundation\, and a development plan which will allow them to better succeed in personal/professional endeavors. Students will be expected to engage in interactive discussions and practical exercises as a part of this course. III. PROGRAM EXPECTATIONS Theoretical casework and practical exercises are designed to help students absorb what they learn. There are brief practical exercises developed to test attendees on their critical thinking and absorption of the course material. Students will gain the greatest benefit from this course by keeping an open mind and taking the time to carefully consider the ideas presented. A minimum score of 70% or better is required to receive credit for the training. Upon successful completion of the material and associated quiz\, a completion certificate will be provided to attendees showing the total number of hours obtained through the training course. IV. ELEMENTS OF INSTRUCTION • Instructional goal: Course will be a combination of presentation\, discussion\, and practical exercise. For students to meet the course objectives and successfully receive credit for attendance\, activities include class participation\, case studies and practical exercises. Use or disclosure of data contained in this document is prohibited without written consent of Silver State Consulting. AVOIDING BURNOUT– LESSON PLAN ©2020 Silver State Consulting Group LLC 2 • Instructional Objectives: Objective #1 Definition and exploration of inherent wellness-related challenges of law enforcement work. Objective #2 Examination of strategies to counter or prevent Law Enforcement Fatigue and its effects both individually and organizationally. Objective #3 Identification of individual and organizational strategies to pursue growth and professional satisfaction\, and to lay the foundation for increased resilience amid often persistent adversity encountered in law enforcement.  \n  \nDates: February 18th\, 2021 \nTime: 0800-1700 \nCredit Hours: 8 \nLocation: \nKCSO SAR Bldg \n10865 N. Ramsey Rd \nHayden\, ID \nCost:  \n$115 \n(Attendees are responsible for meals\, travel\, and/or lodging)  \nDeadline: January 31\, 2021 \nInstructors:  \nRobert G. Woolsey \n  \nRegistration Details:  \nhttps://silverstateconsulting.regfox.com/kootenai-burnout or (702) 324-0677 \n  \nRemarks:
URL:https://post.idaho.gov/event/r1-avoiding-burnout-from-fatigue-to-fulfillment-hayden/
LOCATION:Search and Rescue  Building – Kootenai County Sheriff’s Office\, 10865 N. Ramsey Rd.\, Hayden\, ID\, 83835\, United States
CATEGORIES:Region 1
ORGANIZER;CN="Kootenai%20County%20Sheriff%27s%20Office":MAILTO:sdtraining@kcgov.us
END:VEVENT
END:VCALENDAR