BEGIN:VCALENDAR
VERSION:2.0
PRODID:-//Official website of Idaho Peace Officer Standards and Training - ECPv5.9.0//NONSGML v1.0//EN
CALSCALE:GREGORIAN
METHOD:PUBLISH
X-WR-CALNAME:Official website of Idaho Peace Officer Standards and Training
X-ORIGINAL-URL:https://post.idaho.gov
X-WR-CALDESC:Events for Official website of Idaho Peace Officer Standards and Training
BEGIN:VTIMEZONE
TZID:UTC
BEGIN:STANDARD
TZOFFSETFROM:+0000
TZOFFSETTO:+0000
TZNAME:UTC
DTSTART:20210101T000000
END:STANDARD
END:VTIMEZONE
BEGIN:VEVENT
DTSTART;TZID=UTC:20210909T080000
DTEND;TZID=UTC:20210910T170000
DTSTAMP:20210912T223316
CREATED:20210202T201958Z
LAST-MODIFIED:20210805T222242Z
UID:4443-1631174400-1631293200@post.idaho.gov
SUMMARY:R1 2-Day Digital Crime Scene Photography - Hayden - CANCELLED
DESCRIPTION:Course Number: R1  242  Class is CANCELLED 08/05/2021 \n  \nDescription: \nDIGITAL CRIME SCENE PHOTOGRAPHY: (16 hour) September 9-10\, 2021 ~ $250.00 The first few hours will be dedicated to re-familiarizing the student with their digital SLR camera. The basic equipment needed for this course is an SLR camera\, external flash\, and a tripod. The next 2 days will involve photographing items of evidence in challenging situations; for example\, items in low light conditions\, that luminesce or fluoresce\, in shadow and sunlight\, as well as macro photography. Students will learn proper techniques in photography in comparative evidence such as shoe wear\, tire wear\, bloodstains\, as well as injuries on the body. Students will take hundreds of photos which will provide them with more confidence in their abilities in forensic photography. \n  \nDates: September 9 & 10\, 2021 \nTime: 0800-1700 \nCredit Hours: 16 \nLocation: \nOEM Building \n1662 W. Wyoming Ave. \nHayden\, Idaho 83835 \nCost: $250 \n(Attendees are responsible for meals\, travel\, and/or lodging)  \nDeadline: August 9\, 2021 \nInstructors: Steven E. McGibbon\, MFS \n  \nRegistration Details:  \ncindy@mobilesca.com or (435) 650-1079 or www.mobilecsa.com  \nRemarks:  \nBusiness Casual
URL:https://post.idaho.gov/event/r1-2-day-digital-crime-scene-photography-hayden/
LOCATION:OEM Building – Kootenai County\, 1662 W. Wyoming Ave.\, Hayden\, Idaho\, 83835
CATEGORIES:Region 1
ORGANIZER;CN="Kootenai%20County%20Sheriff%27s%20Office":MAILTO:sdtraining@kcgov.us
END:VEVENT
BEGIN:VEVENT
DTSTART;TZID=UTC:20210909T080000
DTEND;TZID=UTC:20210909T170000
DTSTAMP:20210912T223316
CREATED:20210805T204052Z
LAST-MODIFIED:20210805T204052Z
UID:5169-1631174400-1631206800@post.idaho.gov
SUMMARY:R1 INCAC Statewide Conference 2021 - Ponderay
DESCRIPTION:Course Number: R1  420 \n  \nDescription: \nThis course is designed for law enforcement investigators\, Prosecutors\, MDT Members and Forensic Interviewers focusing on victim services\, suspect interviews\, child abuse cases\, options for outreach\, including the use of Courthouse\, or Facility dogs\, & starting Child Advocacy Centers. \nDates: September 9-10\, 2021 \nTime: 0800-1700 \nCredit Hours: 16 \nLocation: \n401 Bonner Mall Way \n Ponderay\, Idaho \nCost: FREE \n(Attendees are responsible for meals\, travel\, and/or lodging)  \nDeadline:  \nInstructors:  \nJim Sears / Rossemary Udrizar / Peggy Frye / Scott Coleman \n  \nRegistration Details:  \nhttp://cacidaho.org/trainings \nRemarks: \n  \n 
URL:https://post.idaho.gov/event/r1-incac-statewide-conference-2021-ponderay/
LOCATION:Ponderay Event Center\, 401 Bonner Mall Way\, Ponderay\, ID\, United States
CATEGORIES:Region 1
END:VEVENT
END:VCALENDAR