BEGIN:VCALENDAR
VERSION:2.0
PRODID:-//Official website of Idaho Peace Officer Standards and Training - ECPv5.9.0//NONSGML v1.0//EN
CALSCALE:GREGORIAN
METHOD:PUBLISH
X-WR-CALNAME:Official website of Idaho Peace Officer Standards and Training
X-ORIGINAL-URL:https://post.idaho.gov
X-WR-CALDESC:Events for Official website of Idaho Peace Officer Standards and Training
BEGIN:VTIMEZONE
TZID:UTC
BEGIN:STANDARD
TZOFFSETFROM:+0000
TZOFFSETTO:+0000
TZNAME:UTC
DTSTART:20210101T000000
END:STANDARD
END:VTIMEZONE
BEGIN:VEVENT
DTSTART;TZID=UTC:20210902T080000
DTEND;TZID=UTC:20210902T153000
DTSTAMP:20210912T211526
CREATED:20210720T195208Z
LAST-MODIFIED:20210830T235505Z
UID:5103-1630569600-1630596600@post.idaho.gov
SUMMARY:R1 Trigger Control for Accuracy and Speed - Greencreek - CANCELLED
DESCRIPTION:Course Number: R1  259 Class CANCELLED \n  \nDescription: \nThe part 1 class identifies the two necessary fundamentals of marksmanship that must be in place for an accurate shot placement. This class will focus on a method to control your trigger for an accurate shot placement\, then to link accurate shots together\, and finally add speed appropriate for your skill level.\nMost students report taking their marksmanship to the next level. \nAmmo requirement: 250 rounds; 9mm ammo available to purchase on site \nNecessary Gear:\n§ A reliable handgun and holster\n§  hearing and eye protection\n§ A  holster that fits securely to your body\n§ A minimum of one (1) extra magazine\, 2 extra mags is preferable.\n§ Belt\n§ Hat and appropriate outdoor clothing depending on the weather\, as we will alternate between the classroom and covered range throughout the day. \n  \nWater\, lunch and snacks are provided. \n  \nDates: September 2nd\, 2021 \nTime: 0800-1530 \nCredit Hours: 7 \nLocation: \n318 Sonnen Rd \nGreencreek\, ID \nCost: $85  \nIncludes lunch \nDeadline: August 27th\, 2021 \nInstructors:  \nJim Gorges \n  \nRegistration Details:  \namfreedomdefense.org \nRemarks:  \nLunch Provided
URL:https://post.idaho.gov/event/r1-trigger-control-for-accuracy-and-speed-green-creek/
LOCATION:AFD Training Center\, 318 Sonnen Rd\, Greencreek\, ID\, 83533
CATEGORIES:Region 1
END:VEVENT
END:VCALENDAR