BEGIN:VCALENDAR
VERSION:2.0
PRODID:-//Official website of Idaho Peace Officer Standards and Training - ECPv5.5.0.1//NONSGML v1.0//EN
CALSCALE:GREGORIAN
METHOD:PUBLISH
X-WR-CALNAME:Official website of Idaho Peace Officer Standards and Training
X-ORIGINAL-URL:https://post.idaho.gov
X-WR-CALDESC:Events for Official website of Idaho Peace Officer Standards and Training
BEGIN:VTIMEZONE
TZID:America/Boise
BEGIN:DAYLIGHT
TZOFFSETFROM:-0700
TZOFFSETTO:-0600
TZNAME:MDT
DTSTART:20210314T090000
END:DAYLIGHT
BEGIN:STANDARD
TZOFFSETFROM:-0600
TZOFFSETTO:-0700
TZNAME:MST
DTSTART:20211107T080000
END:STANDARD
END:VTIMEZONE
BEGIN:VEVENT
DTSTART;TZID=America/Boise:20210408T080000
DTEND;TZID=America/Boise:20210408T170000
DTSTAMP:20210425T235510
CREATED:20210304T000201Z
LAST-MODIFIED:20210304T000201Z
UID:4610-1617868800-1617901200@post.idaho.gov
SUMMARY:R2 238B  Police Motor Refresher
DESCRIPTION:Course Number:    R2-238B\n \nDescription:   Police Motor Refresher\n \nThis POST provided in-service training is a two-day class designed to reinforce and update current Motor Officer’s skills in the operation of a Police Motorcycle.  \nParticipants are required to provide the following equipment:\n \n\nDepartment Police Motorcycle\nHelmet\nGlasses (shatterproof\, clear and tinted)\nOther riding gear including Boots\, gloves\, etc.\n\nBullet proof vest\nDuty belt (to be worn during on road training rides\,)\n\nPrerequisites for attendance: \nCompletion of the Basic Police Motor course \nDates:   April 8 – 9\, 2021\n \nTime:     0800-1700\n \nCredit Hours:  16 POST Hours\n \nLocation: \nIdaho POST Academy\nBldg 3 Classroom D\n700 South Stratford Drive\nMeridian\, Idaho \n  \nCost:  Tuition Free \n(Meals\, travel\, and/or lodging are the responsibility of the participant) \nDeadline:  April 7\, 2021 \nInstructors:   \nWill Stoy\, Meridian PD\nothers to be determined\n \nPOST Coordinator:  Jeff Sklar\n \nRegistration:  Use the REGISTRATION LINK provided below.\n \nRemarks:  For additional information regarding this training or the training venue\, contact Will Stoy\, Meridian PD at wstoy@meridiancity.org or call 208-631-1741\n \n 
URL:https://post.idaho.gov/event/r2-238b-police-motor-refresher-040821-2/
LOCATION:Idaho POST – Meridian\, 700 S. Stratford Dr.\, Meridian\, ID\, 83642\, United States
CATEGORIES:In-Service Training,Region 2
END:VEVENT
END:VCALENDAR