BEGIN:VCALENDAR
VERSION:2.0
PRODID:-//Official website of Idaho Peace Officer Standards and Training - ECPv5.6.0//NONSGML v1.0//EN
CALSCALE:GREGORIAN
METHOD:PUBLISH
X-WR-CALNAME:Official website of Idaho Peace Officer Standards and Training
X-ORIGINAL-URL:https://post.idaho.gov
X-WR-CALDESC:Events for Official website of Idaho Peace Officer Standards and Training
BEGIN:VTIMEZONE
TZID:UTC
BEGIN:STANDARD
TZOFFSETFROM:+0000
TZOFFSETTO:+0000
TZNAME:UTC
DTSTART:20210101T000000
END:STANDARD
END:VTIMEZONE
BEGIN:VEVENT
DTSTART;TZID=UTC:20210608T080000
DTEND;TZID=UTC:20210608T170000
DTSTAMP:20210527T024821
CREATED:20210106T225827Z
LAST-MODIFIED:20210330T172207Z
UID:4343-1623139200-1623171600@post.idaho.gov
SUMMARY:R4 Less Lethal Instructor Program (Defense Technology)- Idaho Falls
DESCRIPTION:Course Number:R4309A\n \nCourse Description: \nOur hallmark ICP Instructor Program provides the necessary training for a changing world. This course is comprised of four 8-hour instructor-level classes covering OC Aerosols\, Impact Munitions\, Chemical Munitions and Distraction Device® Munitions. The student will acquire instructor-level knowledge of Defense Technology® products\, both technically and tactically\, along with the skills necessary to conduct in-service training. \nDay One- OC Aerosol Projectors Instructor Program \nDay Two- Less Lethal Impact Munitions (LLIM) Instructor Program \nDay Three- Chemical Munitions (CHEM) Instructor Program \nDay Four- Distraction Device Munitions (DD) Instructor Program \nEach of the four class modules focuses on a different subject and includes a half day of lecture-based studies followed by a half day in the field for deployment drills. Unique to this class are the state-of-the-art deployment tactics that come direct from the manufacturer of the products used. In each topic\, students will receive a CD containing presentation materials and videos to be utilized by the student for training in their own departments. \nCourse Benefits \nThis course is conducted by real-world professionals with strong operational and applied experience in their respective fields. Upon completion of the course and successfully passing the final exam\, the student is authorized to provide in-service training to their agency in specific areas for three years from the testing date. \nCOURSE PREREQUISITES- \nEach attendee must be in good physical condition and able to perform the practical exercises associated with tactical applications with these produts. The Defense Technology Training Academy trains only sworn law enforcement officers\, correctional personnel\, state-licenses security personnel (OC Only)\, or active military personnel. \nREQUIRED EQUIPMENT- \nEar and eye protection \nBody armor required for LLIM\, CHEM\, and DD programs \nDuty gear normally used when deploying less lethal products \nFlame-resistant gloves \nGas Mask \n37mm/40mm gas launcher \nWeather appropriate clothing \nWater \nDates: June 8-11\, 2021 DAY ONE AND TWO ARE FULL\, 8 SEATS LEFT FOR DAY THREE AND DAY FOUR (3/30/21)\n \nTimes: 0800-1700\n \nCredit Hours: 40\n \nLocation: Bonneville County Sheriff’s Office\, Ammon Field Office\, 3750 E. Lincoln Rd.\, Ammon\, ID 83401\n \nThis course is being co-hosted between the Bonneville County Sheriff’s Office and the Idaho Falls Police Department \nCost: $895.00\n \n(Attendees are responsible for meals\, travel\, and/or lodging) \nDeadline: \nInstructor(s): TBD\n \nRemarks: \nAll students can register by visiting the websites listed below and clicking on the appropriate link: \nIf students already have a PoliceOne profile\, click here to register:   \nhttps://olt.defense-technology.policeoneacademy.com/ \nIf you DO NOT have a PoliceOne profile and are a new registrant\, click here:  \nhttps://olt.defense-technology.policeoneacademy.com/registration/#register \nRecommended hotel- Hampton Inn\, 208-523-1400
URL:https://post.idaho.gov/event/r4-ifpd-bcso-deftecicp-jun2021/
LOCATION:Bonneville County Sheriff’s Ammon Field Office\, 3750 E. Lincoln Road\, Idaho Falls\, 83402\, United States
CATEGORIES:Region 4
END:VEVENT
END:VCALENDAR