BEGIN:VCALENDAR
VERSION:2.0
PRODID:-//Official website of Idaho Peace Officer Standards and Training - ECPv5.6.0//NONSGML v1.0//EN
CALSCALE:GREGORIAN
METHOD:PUBLISH
X-WR-CALNAME:Official website of Idaho Peace Officer Standards and Training
X-ORIGINAL-URL:https://post.idaho.gov
X-WR-CALDESC:Events for Official website of Idaho Peace Officer Standards and Training
BEGIN:VTIMEZONE
TZID:America/Boise
BEGIN:DAYLIGHT
TZOFFSETFROM:-0700
TZOFFSETTO:-0600
TZNAME:MDT
DTSTART:20210314T090000
END:DAYLIGHT
BEGIN:STANDARD
TZOFFSETFROM:-0600
TZOFFSETTO:-0700
TZNAME:MST
DTSTART:20211107T080000
END:STANDARD
END:VTIMEZONE
BEGIN:VEVENT
DTSTART;TZID=America/Boise:20210614T080000
DTEND;TZID=America/Boise:20210614T170000
DTSTAMP:20210527T024837
CREATED:20210112T201318Z
LAST-MODIFIED:20210408T201236Z
UID:4360-1623657600-1623690000@post.idaho.gov
SUMMARY:R2 - 246 Basic School Resource Officer  Registration is closed class is full
DESCRIPTION:Course Number:   246\n \nDescription:   Basic School Resource Officer training  \nThis 40-hour course is designed for any law enforcement officer or school administrator working in an educational environment. The course emphasizes three main areas of instruction:\n• Functioning as a police officer in the school setting\n• Working as a resource and problem solver\n• Developing teaching skills \nAttendees will gain a solid working knowledge of the School Resource Officer concept and how to establish a lasting partnership with their schools. \nDate:   June 14-18 2021\n \nTime:   0800-1700 \nCredit Hours:  40 hours\n \nLocation:\n \nAda County Sheriff’s Office\n7200 Barrister Dr.\nEntrance 3\, Training Room A\nBoise\, Idaho 83704 \nCOST: $495.00 for Non-Members/ $445.00 for NASRO Members\n                                                  Payable to NASRO\n \n(Attendees are responsible for meals\, travel\, and/or lodging)\n \nDeadline: May 30\, 2021\n \nInstructor: NASRO Instructors\n \nRegistration Details:  https://www.nasro.org  04/08/21 registration closed\n \nRemarks:    \nDo not send registrations to POST. \nMorning and Afternoon Refreshments will be offered.  Lunch is on your own.  For more information visit the NASRO website www.nasro.org or call 1.888.316.2776 \nFor training facility information or hotel recommendations\, contact Cydney Shubin\, Ada CSO Training Coordinator\, e-mail cshubin@adacounty.id.gov or call 208.577.3563  \n 
URL:https://post.idaho.gov/event/r2-246-basic-school-resource-officer-adacso-june2021/
LOCATION:Ada County Sheriff’s Office\, 7200 Barrister Drive\, Boise\, ID\, 83704\, United States
CATEGORIES:Region 2
END:VEVENT
END:VCALENDAR