BEGIN:VCALENDAR
VERSION:2.0
PRODID:-//Official website of Idaho Peace Officer Standards and Training - ECPv5.5.0.1//NONSGML v1.0//EN
CALSCALE:GREGORIAN
METHOD:PUBLISH
X-WR-CALNAME:Official website of Idaho Peace Officer Standards and Training
X-ORIGINAL-URL:https://post.idaho.gov
X-WR-CALDESC:Events for Official website of Idaho Peace Officer Standards and Training
BEGIN:VTIMEZONE
TZID:America/Los_Angeles
BEGIN:DAYLIGHT
TZOFFSETFROM:-0800
TZOFFSETTO:-0700
TZNAME:PDT
DTSTART:20210314T100000
END:DAYLIGHT
BEGIN:STANDARD
TZOFFSETFROM:-0700
TZOFFSETTO:-0800
TZNAME:PST
DTSTART:20211107T090000
END:STANDARD
END:VTIMEZONE
BEGIN:VEVENT
DTSTART;TZID=America/Los_Angeles:20210419T080000
DTEND;TZID=America/Los_Angeles:20210419T170000
DTSTAMP:20210428T210324
CREATED:20201104T004545Z
LAST-MODIFIED:20210225T222018Z
UID:4066-1618819200-1618851600@post.idaho.gov
SUMMARY:R1 PATC - Detective and New Criminal Investigator - Hayden FULL
DESCRIPTION:Course Number: R1  228  FULL \n  \nDescription: This course is composed to assist the newly appointed Detective [or Patrol Officer conducting investigations] in becoming familiar with the many aspects of a Criminal Investigation. It is designed to assist in providing a solid foundation of basic techniques from which Detectives can build upon as they progress through their careers. Policies and procedures differ from agency to agency and this presentation is a general overview\, not to conflict with your department operating guidelines in criminal investigations.    \n  \nDates: April 19 – 23\, 2021 \nTime: 0800-1700 \nCredit Hours: 40 hrs \nLocation: \nKCSO SAR Bldg \n10865 N. Ramsey Rd \nHayden\, ID \nCost: $525 \n(Attendees are responsible for meals\, travel\, and/or lodging)  \nDeadline: March 23\, 2021 \nInstructors:  \nThomas G. Tittle & Brian J. Jarvis \n  \nRegistration Details:  \nhttp://patc.com/training/detail.php?ID=17529  or (800) 365-0119 \nRemarks:  \nLodging and Meals are on your own
URL:https://post.idaho.gov/event/r1-patc-detective-and-new-criminal-investigator-hayden/
LOCATION:Search and Rescue  Building – Kootenai County Sheriff’s Office\, 10865 N. Ramsey Rd.\, Hayden\, ID\, 83835\, United States
CATEGORIES:Region 1
ORGANIZER;CN="Kootenai%20County%20Sheriff%27s%20Office":MAILTO:sdtraining@kcgov.us
END:VEVENT
END:VCALENDAR