BEGIN:VCALENDAR
VERSION:2.0
PRODID:-//Official website of Idaho Peace Officer Standards and Training - ECPv5.7.1//NONSGML v1.0//EN
CALSCALE:GREGORIAN
METHOD:PUBLISH
X-WR-CALNAME:Official website of Idaho Peace Officer Standards and Training
X-ORIGINAL-URL:https://post.idaho.gov
X-WR-CALDESC:Events for Official website of Idaho Peace Officer Standards and Training
BEGIN:VTIMEZONE
TZID:America/Boise
BEGIN:DAYLIGHT
TZOFFSETFROM:-0700
TZOFFSETTO:-0600
TZNAME:MDT
DTSTART:20190310T090000
END:DAYLIGHT
BEGIN:STANDARD
TZOFFSETFROM:-0600
TZOFFSETTO:-0700
TZNAME:MST
DTSTART:20191103T080000
END:STANDARD
END:VTIMEZONE
BEGIN:VEVENT
DTSTART;TZID=America/Boise:20190101T080000
DTEND;TZID=America/Boise:20190101T170000
DTSTAMP:20210707T085643
CREATED:20200224T202206Z
LAST-MODIFIED:20210218T191140Z
UID:2967-1546329600-1546362000@post.idaho.gov
SUMMARY:A R(1\, 2\, 3\, 4) Defensive Tactics ARCON Instructor Template
DESCRIPTION:Class Number:   R   301E \nDescription: \nThis is the new P.O.S.T. approved Defensive Tactics Instructor Course using the ARCON curriculum. This training course includes a test-in component\, skill training\, teach-back and a skills test-out component. \nAttendees are expected to test out at 90% to pass this course. Upon completion of this course attendees should have the skills necessary to instruct others in the ARCON Defensive Tactics techniques. \nStudents accepted to attend this class must meet the following REQUIREMENTS prior to registration: \n\nCompletion of the Idaho POST Instructor Development class\nCompletion of a patrol based defensive tactics training or a AT/DT user course.\n\nNot required but highly recommended: \n\nCompletion of the 2018-2019 POST Use of Force class (POST Academy updated training)\nor the POST Human Performance class\n\nPhysical agility test-in requirements  \n\n30 Burpees in 3 minutes link\n\nStudents unable to pass the physical agility test-in will not be allowed to continue in the class. A test in fee of $80.00 will be charged to their Agency. \n100% Attendance is required for completion of this course.  \nCompletion of this course is a requirement for the maintenance of a current Defensive Tactics endorsement or the issuance of a new Defensive Tactics endorsement. \nCLASS ATTIRE \n\nLoose fitting tactical pants\nGi pants\nShort sleeve T-Shirt\nLong Sleeve T-Shirt\n(rash guard type also recommended)\nAppropriate foot wear for use on wrestling mats\n\n  \nDates: \nTime: 0800 – 1700 \nCredits: 80 \nLocation:  \nCost:  $600.00\nPayable to Idaho POST\n(Tuition does not include meals\, travel\, and/or lodging)  \nDeadline:  \nInstructors:  \nMaster Instructor \nInstructors: \nRegistration Details:  \nRemarks:
URL:https://post.idaho.gov/event/a-r1-2-3-4-defensive-tactics-arcon-instructor-template/
LOCATION:Idaho Department of Fish and Game- Salmon\, 99 Hwy 93 North\, Salmon\, ID\, ID\, 83467\, United States
CATEGORIES:ARCON Instructor
END:VEVENT
END:VCALENDAR